BEGIN:VCALENDAR
VERSION:2.0
PRODID:-//Sc Birg Bern - ECPv6.8.1//NONSGML v1.0//EN
CALSCALE:GREGORIAN
METHOD:PUBLISH
X-WR-CALNAME:Sc Birg Bern
X-ORIGINAL-URL:https://scbirg.ch
X-WR-CALDESC:Veranstaltungen für Sc Birg Bern
REFRESH-INTERVAL;VALUE=DURATION:PT1H
X-Robots-Tag:noindex
X-PUBLISHED-TTL:PT1H
BEGIN:VTIMEZONE
TZID:Europe/Paris
BEGIN:DAYLIGHT
TZOFFSETFROM:+0100
TZOFFSETTO:+0200
TZNAME:CEST
DTSTART:20250330T010000
END:DAYLIGHT
BEGIN:STANDARD
TZOFFSETFROM:+0200
TZOFFSETTO:+0100
TZNAME:CET
DTSTART:20251026T010000
END:STANDARD
END:VTIMEZONE
BEGIN:VEVENT
DTSTART;VALUE=DATE:20250125
DTEND;VALUE=DATE:20250126
DTSTAMP:20260426T003430
CREATED:20241128T070123Z
LAST-MODIFIED:20241128T070726Z
UID:964-1737763200-1737849599@scbirg.ch
SUMMARY:Jo-Training
DESCRIPTION:
URL:https://scbirg.ch/index.php/event/jo-training-28
LOCATION:Bern
CATEGORIES:Daten Jo Training
END:VEVENT
END:VCALENDAR