BEGIN:VCALENDAR
VERSION:2.0
PRODID:-//Sc Birg Bern - ECPv6.8.1//NONSGML v1.0//EN
CALSCALE:GREGORIAN
METHOD:PUBLISH
X-ORIGINAL-URL:https://scbirg.ch
X-WR-CALDESC:Veranstaltungen für Sc Birg Bern
REFRESH-INTERVAL;VALUE=DURATION:PT1H
X-Robots-Tag:noindex
X-PUBLISHED-TTL:PT1H
BEGIN:VTIMEZONE
TZID:UTC
BEGIN:STANDARD
TZOFFSETFROM:+0000
TZOFFSETTO:+0000
TZNAME:UTC
DTSTART:20260101T000000
END:STANDARD
END:VTIMEZONE
BEGIN:VEVENT
DTSTART;TZID=UTC:20260819T180000
DTEND;TZID=UTC:20260819T180000
DTSTAMP:20260423T083425
CREATED:20260302T193108Z
LAST-MODIFIED:20260420T105211Z
UID:1007-1787162400-1787162400@scbirg.ch
SUMMARY:Hauptversammlung
DESCRIPTION:  \n 
URL:https://scbirg.ch/index.php/event/hauptversammlung
LOCATION:Ristorante Bella Vida\, Bolligenstrasse 52\, Bern\, Bern\, 3006\, Switzerland
END:VEVENT
END:VCALENDAR