BEGIN:VCALENDAR
VERSION:2.0
PRODID:-//Sc Birg Bern - ECPv6.8.1//NONSGML v1.0//EN
CALSCALE:GREGORIAN
METHOD:PUBLISH
X-ORIGINAL-URL:https://scbirg.ch
X-WR-CALDESC:Veranstaltungen für Sc Birg Bern
REFRESH-INTERVAL;VALUE=DURATION:PT1H
X-Robots-Tag:noindex
X-PUBLISHED-TTL:PT1H
BEGIN:VTIMEZONE
TZID:Europe/Paris
BEGIN:DAYLIGHT
TZOFFSETFROM:+0100
TZOFFSETTO:+0200
TZNAME:CEST
DTSTART:20250330T010000
END:DAYLIGHT
BEGIN:STANDARD
TZOFFSETFROM:+0200
TZOFFSETTO:+0100
TZNAME:CET
DTSTART:20251026T010000
END:STANDARD
END:VTIMEZONE
BEGIN:VEVENT
DTSTART;VALUE=DATE:20250824
DTEND;VALUE=DATE:20250825
DTSTAMP:20260425T145008
CREATED:20241118T212339Z
LAST-MODIFIED:20241118T212411Z
UID:958-1755993600-1756079999@scbirg.ch
SUMMARY:Aareböötle
DESCRIPTION:Wann: Sonntag 24. August 2025\nOrt:Aare\, Treffpunkt wird noch bekannt gegeben\nAnmeldung: bis 10. August 2025 bei Jan Tschannen\n(Jan@scbirg.ch\, 079 485 95 77)\nKosten:\nDer Sc Birg übernimmt die Bootsmiete und Snacks
URL:https://scbirg.ch/index.php/event/aareboeoetle
LOCATION:Bern
END:VEVENT
END:VCALENDAR