BEGIN:VCALENDAR
VERSION:2.0
PRODID:-//Sc Birg Bern - ECPv6.8.1//NONSGML v1.0//EN
CALSCALE:GREGORIAN
METHOD:PUBLISH
X-WR-CALNAME:Sc Birg Bern
X-ORIGINAL-URL:https://scbirg.ch
X-WR-CALDESC:Veranstaltungen für Sc Birg Bern
REFRESH-INTERVAL;VALUE=DURATION:PT1H
X-Robots-Tag:noindex
X-PUBLISHED-TTL:PT1H
BEGIN:VTIMEZONE
TZID:UTC
BEGIN:STANDARD
TZOFFSETFROM:+0000
TZOFFSETTO:+0000
TZNAME:UTC
DTSTART:20260101T000000
END:STANDARD
END:VTIMEZONE
BEGIN:VEVENT
DTSTART;VALUE=DATE:20260214
DTEND;VALUE=DATE:20260215
DTSTAMP:20260423T081730
CREATED:20251125T134624Z
LAST-MODIFIED:20251125T134624Z
UID:999-1771027200-1771113599@scbirg.ch
SUMMARY:Jo-Training
DESCRIPTION:Möglichkeit für Banked Slalom Contest
URL:https://scbirg.ch/index.php/event/jo-training-40
LOCATION:Bern
END:VEVENT
END:VCALENDAR