BEGIN:VCALENDAR
VERSION:2.0
PRODID:-//Sc Birg Bern - ECPv6.8.1//NONSGML v1.0//EN
CALSCALE:GREGORIAN
METHOD:PUBLISH
X-WR-CALNAME:Sc Birg Bern
X-ORIGINAL-URL:https://scbirg.ch
X-WR-CALDESC:Veranstaltungen für Sc Birg Bern
REFRESH-INTERVAL;VALUE=DURATION:PT1H
X-Robots-Tag:noindex
X-PUBLISHED-TTL:PT1H
BEGIN:VTIMEZONE
TZID:UTC
BEGIN:STANDARD
TZOFFSETFROM:+0000
TZOFFSETTO:+0000
TZNAME:UTC
DTSTART:20260101T000000
END:STANDARD
END:VTIMEZONE
BEGIN:VEVENT
DTSTART;VALUE=DATE:20260301
DTEND;VALUE=DATE:20260302
DTSTAMP:20260423T063608
CREATED:20251125T134656Z
LAST-MODIFIED:20251125T134656Z
UID:1001-1772323200-1772409599@scbirg.ch
SUMMARY:Jo-Training
DESCRIPTION:
URL:https://scbirg.ch/index.php/event/jo-training-41
LOCATION:Bern
END:VEVENT
BEGIN:VEVENT
DTSTART;VALUE=DATE:20260315
DTEND;VALUE=DATE:20260316
DTSTAMP:20260423T063608
CREATED:20251125T134835Z
LAST-MODIFIED:20251125T134835Z
UID:1003-1773532800-1773619199@scbirg.ch
SUMMARY:Schneetag SC Birg
DESCRIPTION:
URL:https://scbirg.ch/index.php/event/schneetag-sc-birg
LOCATION:Bern
END:VEVENT
BEGIN:VEVENT
DTSTART;VALUE=DATE:20260321
DTEND;VALUE=DATE:20260322
DTSTAMP:20260423T063608
CREATED:20251126T072649Z
LAST-MODIFIED:20251126T072649Z
UID:1005-1774051200-1774137599@scbirg.ch
SUMMARY:Jo-Training
DESCRIPTION:
URL:https://scbirg.ch/index.php/event/jo-training-42
LOCATION:Bern
END:VEVENT
END:VCALENDAR